BEGIN:VCALENDAR
VERSION:2.0
PRODID:-//TSV Schneisingen - ECPv6.15.20//NONSGML v1.0//EN
CALSCALE:GREGORIAN
METHOD:PUBLISH
X-WR-CALNAME:TSV Schneisingen
X-ORIGINAL-URL:https://tsvschneisingen.ch
X-WR-CALDESC:Veranstaltungen im TSV Schneisingen
REFRESH-INTERVAL;VALUE=DURATION:PT1H
X-Robots-Tag:noindex
X-PUBLISHED-TTL:PT1H
BEGIN:VTIMEZONE
TZID:Europe/Zurich
BEGIN:DAYLIGHT
TZOFFSETFROM:+0100
TZOFFSETTO:+0200
TZNAME:CEST
DTSTART:20180325T010000
END:DAYLIGHT
BEGIN:STANDARD
TZOFFSETFROM:+0200
TZOFFSETTO:+0100
TZNAME:CET
DTSTART:20181028T010000
END:STANDARD
BEGIN:DAYLIGHT
TZOFFSETFROM:+0100
TZOFFSETTO:+0200
TZNAME:CEST
DTSTART:20190331T010000
END:DAYLIGHT
BEGIN:STANDARD
TZOFFSETFROM:+0200
TZOFFSETTO:+0100
TZNAME:CET
DTSTART:20191027T010000
END:STANDARD
BEGIN:DAYLIGHT
TZOFFSETFROM:+0100
TZOFFSETTO:+0200
TZNAME:CEST
DTSTART:20200329T010000
END:DAYLIGHT
BEGIN:STANDARD
TZOFFSETFROM:+0200
TZOFFSETTO:+0100
TZNAME:CET
DTSTART:20201025T010000
END:STANDARD
BEGIN:DAYLIGHT
TZOFFSETFROM:+0100
TZOFFSETTO:+0200
TZNAME:CEST
DTSTART:20210328T010000
END:DAYLIGHT
BEGIN:STANDARD
TZOFFSETFROM:+0200
TZOFFSETTO:+0100
TZNAME:CET
DTSTART:20211031T010000
END:STANDARD
BEGIN:DAYLIGHT
TZOFFSETFROM:+0100
TZOFFSETTO:+0200
TZNAME:CEST
DTSTART:20220327T010000
END:DAYLIGHT
BEGIN:STANDARD
TZOFFSETFROM:+0200
TZOFFSETTO:+0100
TZNAME:CET
DTSTART:20221030T010000
END:STANDARD
BEGIN:DAYLIGHT
TZOFFSETFROM:+0100
TZOFFSETTO:+0200
TZNAME:CEST
DTSTART:20230326T010000
END:DAYLIGHT
BEGIN:STANDARD
TZOFFSETFROM:+0200
TZOFFSETTO:+0100
TZNAME:CET
DTSTART:20231029T010000
END:STANDARD
BEGIN:DAYLIGHT
TZOFFSETFROM:+0100
TZOFFSETTO:+0200
TZNAME:CEST
DTSTART:20240331T010000
END:DAYLIGHT
BEGIN:STANDARD
TZOFFSETFROM:+0200
TZOFFSETTO:+0100
TZNAME:CET
DTSTART:20241027T010000
END:STANDARD
BEGIN:DAYLIGHT
TZOFFSETFROM:+0100
TZOFFSETTO:+0200
TZNAME:CEST
DTSTART:20250330T010000
END:DAYLIGHT
BEGIN:STANDARD
TZOFFSETFROM:+0200
TZOFFSETTO:+0100
TZNAME:CET
DTSTART:20251026T010000
END:STANDARD
BEGIN:DAYLIGHT
TZOFFSETFROM:+0100
TZOFFSETTO:+0200
TZNAME:CEST
DTSTART:20260329T010000
END:DAYLIGHT
BEGIN:STANDARD
TZOFFSETFROM:+0200
TZOFFSETTO:+0100
TZNAME:CET
DTSTART:20261025T010000
END:STANDARD
END:VTIMEZONE
BEGIN:VEVENT
DTSTART;TZID=Europe/Zurich:20251227T190000
DTEND;TZID=Europe/Zurich:20251227T230000
DTSTAMP:20260419T234352
CREATED:20251202T094905Z
LAST-MODIFIED:20251206T122743Z
UID:832-1766862000-1766876400@tsvschneisingen.ch
SUMMARY:Volleynight 2025
DESCRIPTION:Wir laden wieder alle Volleyballbegeisterten zu unserer jährlichen Volleynight ein. \nDer Austragungsort ist dieses Jahr wieder die bekannt Halle in Schneisingen.\nGespielt wird 3 gegen 3. \nIn der Halle wird ein kleiner Kiosk betrieben\, wo Snacks und Getränke gekauft werden können. \nAnmelden geht ebenfalls weiterhin mit dem Anmeldeformular etwas weiter unten auf der Seite. Ihr erhaltet nach erfolgreicher Anmeldung keine Bestätigung per Mail. \nWir wünschen den teilnehmenden Teams viel Erfolg und spannende\, unfallfreie Spiele!\nUm Werbung und Weitererzählen sind wir froh! Der Flyer kann hier zum Verteilen heruntergeladen werden. \n\n	Hinweis: Für diesen Inhalt ist JavaScript erforderlich.\n\n\n    \n\n\n        \n        \n        \n 
URL:https://tsvschneisingen.ch/event/volleynight-2025/
LOCATION:Turnhalle Schneisingen\, Schladstrasse 20\, Schneisingen\, Aargau\, 5425\, Schweiz
CATEGORIES:Turnverein
ATTACH;FMTTYPE=image/png:https://tsvschneisingen.ch/wp-content/uploads/2025/12/TSV_VolleyNight_Header_2025.png
END:VEVENT
BEGIN:VEVENT
DTSTART;TZID=Europe/Zurich:20250706T150000
DTEND;TZID=Europe/Zurich:20250706T180000
DTSTAMP:20260419T234352
CREATED:20250424T195814Z
LAST-MODIFIED:20250630T083737Z
UID:807-1751814000-1751824800@tsvschneisingen.ch
SUMMARY:King of the Grass 2025
DESCRIPTION:WICHTIG: Die Spiele starten erst um 15:00 Uhr\, nicht wie auf dem Flyer angegeben um 13:00! \nWir laden alle Volleyballbegeisterten zu unserem Gras- und Beachvolleyballturnier ein. Kommt und messt euch auf Gras und Sand mit anderen Teams! \nEin kleiner Kiosk sorgt für euer leibliches Wohl. \nWer teilnehmen möchte meldet sein Team via online Formular (siehe unten) an.\nEs werden keine Empfangsbestätigungen versendet. \nWir wünschen allen Teams viel Spass und Erfolg! \nDer Flyer kann für alle zum Weiterverteilen hier heruntergeladen werden. \n\n	Hinweis: Für diesen Inhalt ist JavaScript erforderlich.
URL:https://tsvschneisingen.ch/event/king-of-the-grass-2025/
LOCATION:Sportplatz Schneisingen\, Schladstrasse 21\, Schneisingen\, Aargau\, 5425\, Schweiz
CATEGORIES:Turnverein
ATTACH;FMTTYPE=image/png:https://tsvschneisingen.ch/wp-content/uploads/2025/04/TSV_ParkVolley_Header_2025.png
END:VEVENT
BEGIN:VEVENT
DTSTART;TZID=Europe/Zurich:20250704T190000
DTEND;TZID=Europe/Zurich:20250704T230000
DTSTAMP:20260419T234352
CREATED:20221124T154126Z
LAST-MODIFIED:20250424T193225Z
UID:684-1751655600-1751670000@tsvschneisingen.ch
SUMMARY:Generalversammlung
DESCRIPTION:Obligatorisch für alle Aktivmitglieder. \nAbmeldungen an den Präsidenten!
URL:https://tsvschneisingen.ch/event/generalversammlung/
LOCATION:Sportplatz Schneisingen\, Schladstrasse 21\, Schneisingen\, Aargau\, 5425\, Schweiz
CATEGORIES:Turnverein
END:VEVENT
BEGIN:VEVENT
DTSTART;TZID=Europe/Zurich:20241228T190000
DTEND;TZID=Europe/Zurich:20241228T235900
DTSTAMP:20260419T234352
CREATED:20241112T200656Z
LAST-MODIFIED:20241114T201033Z
UID:761-1735412400-1735430340@tsvschneisingen.ch
SUMMARY:Volleynight 2024
DESCRIPTION:Wir laden wieder alle Volleyballbegeisterten zu unserer jährlichen Volleynight ein. Dieses Jahr etwas anders! \nDie Volleynight findet dieses Jahr nämlich in der Sporthalle Wehntal in Niederweningen statt. Wir haben dadurch viel Platz und spielen auf den normalen Volleyballfeldern. \nIn der Halle wird ein kleiner Kiosk betrieben\, wo Snacks und Getränke gekauft werden können. \nAnmelden geht mit dem Anmeldeformular etwas weiter unten auf der Seite. Ihr erhaltet nach erfolgreicher Anmeldung keine Bestätigung per Mail.\nWir wünschen den teilnehmenden Teams viel Erfolg und spannende\, unfallfreie Spiele! \nUm Werbung und Weitererzählen sind wir froh!\nDeshalb kann der Flyer hier heruntergeladen werden. \n\n	Hinweis: Für diesen Inhalt ist JavaScript erforderlich.\n\n\n    \n\n\n        \n        \n        \n 
URL:https://tsvschneisingen.ch/event/volleynight-2024/
LOCATION:Sporthalle Wehntal\, Alte Stationsstrasse 13\, Niederweningen\, Zürich\, 8166\, Switzerland
CATEGORIES:Turnverein
ATTACH;FMTTYPE=image/png:https://tsvschneisingen.ch/wp-content/uploads/2024/11/TSV_VolleyNight_Header_2024.png
END:VEVENT
BEGIN:VEVENT
DTSTART;TZID=Europe/Zurich:20240707T130000
DTEND;TZID=Europe/Zurich:20240707T170000
DTSTAMP:20260419T234352
CREATED:20240603T200009Z
LAST-MODIFIED:20240704T084313Z
UID:734-1720357200-1720371600@tsvschneisingen.ch
SUMMARY:King of the Grass 2024
DESCRIPTION:Wir laden alle Volleyballbegeisterten zu unserem Gras- und Beachvolleyballturnier ein. Kommt und messt euch auf Gras und Sand mit anderen Teams! \nEin kleiner Kiosk sorgt für euer leibliches Wohl. \nWer teilnehmen möchte meldet sein Team via E-Mail anmeldung@tsvschneisingen.ch oder online Formular (siehe unten) an.\nEs werden keine Empfangsbestätigungen versendet. \nWir wünschen allen Teams viel Spass und Erfolg! \nDer Flyer kann für alle zum Weiterverteilen hier heruntergeladen werden. \n\n	Hinweis: Für diesen Inhalt ist JavaScript erforderlich.
URL:https://tsvschneisingen.ch/event/king-of-the-grass-2024/
LOCATION:Sportplatz Schneisingen\, Schladstrasse 21\, Schneisingen\, Aargau\, 5425\, Schweiz
CATEGORIES:Turnverein
ATTACH;FMTTYPE=image/png:https://tsvschneisingen.ch/wp-content/uploads/2024/06/TSV_ParkVolley_Header_2024.png
END:VEVENT
BEGIN:VEVENT
DTSTART;TZID=Europe/Zurich:20231229T190000
DTEND;TZID=Europe/Zurich:20231229T235900
DTSTAMP:20260419T234352
CREATED:20231118T080001Z
LAST-MODIFIED:20231118T105331Z
UID:712-1703876400-1703894340@tsvschneisingen.ch
SUMMARY:Volleynight 2023
DESCRIPTION:Gerne begrüssen wir wieder viele Volleyball-Begeisterte zu unserer Volleynight und hoffen auf viele tolle Spiele. \nIn der Halle gibt es einen kleinen Kiosk\, wo Getränke und Snacks gekauft werden können. \nWer gerne teilnehmen möchte\, kann ein Team per E-Mail (anmeldung@tsvschneisingen.ch) oder mit dem Formular weiter unten anmelden.\nEs werden keine Bestätigungen bei Anmeldung versendet.\nWir wünschen allen Teilnehmern viel Erfolg! \nDer Flyer kann hier zum Weiterverteilen heruntergeladen werden. \n\n	Hinweis: Für diesen Inhalt ist JavaScript erforderlich.
URL:https://tsvschneisingen.ch/event/volleynight-2023/
LOCATION:Turnhalle Schneisingen\, Schladstrasse 20\, Schneisingen\, Aargau\, 5425\, Schweiz
CATEGORIES:Turnverein
ATTACH;FMTTYPE=image/png:https://tsvschneisingen.ch/wp-content/uploads/2023/11/TSV_VolleyNight_Header_2023.png
END:VEVENT
BEGIN:VEVENT
DTSTART;VALUE=DATE:20230709
DTEND;VALUE=DATE:20230710
DTSTAMP:20260419T234352
CREATED:20221124T154258Z
LAST-MODIFIED:20230624T164903Z
UID:686-1688860800-1688947199@tsvschneisingen.ch
SUMMARY:King of the Grass 2023
DESCRIPTION:
URL:https://tsvschneisingen.ch/event/king-of-the-grass-2023/
LOCATION:Sportplatz Schneisingen\, Schladstrasse 21\, Schneisingen\, Aargau\, 5425\, Schweiz
END:VEVENT
BEGIN:VEVENT
DTSTART;VALUE=DATE:20230401
DTEND;VALUE=DATE:20230402
DTSTAMP:20260419T234352
CREATED:20221124T153953Z
LAST-MODIFIED:20221124T153953Z
UID:682-1680307200-1680393599@tsvschneisingen.ch
SUMMARY:Frühlingsmarsch 2023
DESCRIPTION:
URL:https://tsvschneisingen.ch/event/fruehlingsmarsch-2023/
LOCATION:Sportplatz Schneisingen\, Schladstrasse 21\, Schneisingen\, Aargau\, 5425\, Schweiz
CATEGORIES:Turnverein
END:VEVENT
BEGIN:VEVENT
DTSTART;TZID=Europe/Zurich:20221230T190000
DTEND;TZID=Europe/Zurich:20221230T235900
DTSTAMP:20260419T234352
CREATED:20221112T230047Z
LAST-MODIFIED:20221129T060401Z
UID:669-1672426800-1672444740@tsvschneisingen.ch
SUMMARY:Volleynight 2022
DESCRIPTION:Nachdem die Volleynight letztes Jahr leider abgesagt wurde\, findet sie dieses Jahr wieder statt! \nGerne begrüssen wir wieder viele Volleyball-Begeisterte und hoffen auf viele tolle Spiele.\nWer teilnehmen möchte kann ein Team per E-Mail (anmeldung@tsvschneisingen.ch) oder mit dem Formular am Ende der Seite anmelden.\nWir wünschen schon jetzt allen eine gute Volleynight und viel Erfolg! \nDer Flyer kann hier zum Weiterverteilen heruntergeladen werden. \nAn der Volleynight gelten allfälligen Coronamassnahmen des Kanton Aargau. \n\n	Hinweis: Für diesen Inhalt ist JavaScript erforderlich.
URL:https://tsvschneisingen.ch/event/volleynight-2022/
LOCATION:Turnhalle Schneisingen\, Schladstrasse 20\, Schneisingen\, Aargau\, 5425\, Schweiz
CATEGORIES:Turnverein
ATTACH;FMTTYPE=image/png:https://tsvschneisingen.ch/wp-content/uploads/2022/11/TSV_VolleyNight_Header_2022.png
END:VEVENT
BEGIN:VEVENT
DTSTART;TZID=Europe/Zurich:20211218T190000
DTEND;TZID=Europe/Zurich:20211218T235900
DTSTAMP:20260419T234352
CREATED:20211105T162409Z
LAST-MODIFIED:20211215T105446Z
UID:652-1639854000-1639871940@tsvschneisingen.ch
SUMMARY:ABGESAGT - Volleynight 2021
DESCRIPTION:Die diesjährige Volleynight ist aufgrund mangelnder Anmeldungen und der verschärften Coronasituation abgesagt. \nDieses Jahr findet wieder die VolleyNight statt. \nGerne begrüssen wir wieder viele Volleyball-Begeisterte und hoffen auf viele tolle Spiele.\nAlle Anwesenden müssen beim Eingang ein gültiges Zertifikat und eine ID zeigen.\nAufgrund der Massnahman vom 3. Dezember ist die VolleyNight ein 2G-Anlass (nur geimpfte und genesene Personen mit Zertifikat).\nWer teilnehmen möchte kann ein Team unter folgender Email Adresse anmelden: anmeldung@tsvschneisingen.ch\nWir wünschen schon jetzt allen eine gute Volleynight und viel Erfolg! \nDer Flyer kann hier heruntergeladen werden:\nVolleyNight Flyer 2021
URL:https://tsvschneisingen.ch/event/volleynight-2021/
LOCATION:Turnhalle Schneisingen\, Schladstrasse 20\, Schneisingen\, Aargau\, 5425\, Schweiz
CATEGORIES:Turnverein
ATTACH;FMTTYPE=image/png:https://tsvschneisingen.ch/wp-content/uploads/2021/11/TSV_VolleyNight_Header_2021.png
END:VEVENT
BEGIN:VEVENT
DTSTART;TZID=Europe/Zurich:20200705T150000
DTEND;TZID=Europe/Zurich:20200705T220000
DTSTAMP:20260419T234352
CREATED:20200610T170023Z
LAST-MODIFIED:20200610T150119Z
UID:643-1593961200-1593986400@tsvschneisingen.ch
SUMMARY:King of the Grass 2020
DESCRIPTION:Wie jedes Jahr spielen findet auch diesen Sommer wieder das Rasen-Volleyballturnier statt. Dieses Jahr wird sogar unser neues Beachvolley-Feld in den Spielmodus eingebunden. \nWie immer sind alle herzlichst dazu eingeladen mitzuspielen. \n \nGespielt wird 3 gegen 3\, egal welches Alter\, welches Geschlecht oder welches Niveau! \nDer Flyer für das ParkVolley 2020 kann hier heruntergeladen werden. \nInteressierte Teams können sich direkt über das Formular am Ende des Beitrags oder unter folgender Email Adresse anmelden:\nanmeldung@tsvschneisingen.ch \nWir freuen uns auf zahlreiche Anmeldungen und spannende Spiele! \n\n	Hinweis: Für diesen Inhalt ist JavaScript erforderlich.
URL:https://tsvschneisingen.ch/event/king-of-the-grass-2020/
LOCATION:Sportplatz Schneisingen\, Schladstrasse 21\, Schneisingen\, Aargau\, 5425\, Schweiz
CATEGORIES:Turnverein
ATTACH;FMTTYPE=image/png:https://tsvschneisingen.ch/wp-content/uploads/2020/06/TSV_ParkVolley_Header_2020.png
END:VEVENT
BEGIN:VEVENT
DTSTART;TZID=Europe/Zurich:20191228T190000
DTEND;TZID=Europe/Zurich:20191229T000000
DTSTAMP:20260419T234352
CREATED:20191202T161200Z
LAST-MODIFIED:20191203T172854Z
UID:616-1577559600-1577577600@tsvschneisingen.ch
SUMMARY:Volleynight 2019
DESCRIPTION:Auch dieses Jahr findet am letzten Samstag des Jahres die VolleyNight wieder statt. \nGerne begrüssen wir wieder viele Volleyball-Begeisterte und hoffen auf viele tolle Spiele.\nWer gerne teilnehmen möchte kann ein Team unter folgender Email Adresse anmelden: anmeldung@tsvschneisingen.ch oder neu auch über das Formular weiter unten auf der Internetseite.\nWir wünschen schon jetzt allen eine gute Volleynight und viel Erfolg! \nDer Flyer kann wie immer\, hier heruntergeladen werden:\nVolleyNight Flyer 2019 \n\n	Hinweis: Für diesen Inhalt ist JavaScript erforderlich.
URL:https://tsvschneisingen.ch/event/volleynight-2019/
LOCATION:Turnhalle Schneisingen\, Schladstrasse 20\, Schneisingen\, Aargau\, 5425\, Schweiz
CATEGORIES:Turnverein
ATTACH;FMTTYPE=image/png:https://tsvschneisingen.ch/wp-content/uploads/2019/12/VolleyNight-Header-2019.png
END:VEVENT
BEGIN:VEVENT
DTSTART;TZID=Europe/Zurich:20191122T193000
DTEND;TZID=Europe/Zurich:20191123T000000
DTSTAMP:20260419T234352
CREATED:20191023T075054Z
LAST-MODIFIED:20191023T083146Z
UID:524-1574451000-1574467200@tsvschneisingen.ch
SUMMARY:Unihockey Plauschturnier 2019
DESCRIPTION:Der Testrun des Unihockey Grümpelturniers letztes Jahr war ein riesen Erfolg. Wir möchten darum auch dieses Jahr wieder alle Interessierten ganz herzlich einladen daran teilzunehmen. \nDas Turnier findet am Freitag\, 22.11.2019 ab 19:30 Uhr in der Turnhalle Aemmert in Schneisingen statt. \nWillkommen sind alle die interessiert sind einen Abend lang Unihockey zu spielen. Wir haben nur eine begrenzte Anzahl Masken und Stöcke\, deshalb ist es von Vorteil seine eigene Ausrüstung mitzunehmen\, aber wir helfen gerne aus wenn Ausrüstung fehlt. \nWie letztes Jahr muss ein Team aus mindestens drei Feldspielern und einem Torhüter bestehen. Jedes Team muss zu jedem Zeitpunkt eine Frau oder ein/e U-16 SpielerIn auf dem Feld haben. \nDer Flyer für das Plauschturnier kann hier heruntergeladen werden um fleissig Werbung zu machen. \nZum anmelden einfach eine Mail an anmeldung@tsvschneisingen.ch schicken. Deadline zum Anmelden ist der 15.11.2019!
URL:https://tsvschneisingen.ch/event/unihockey-plauschturnier-2019/
LOCATION:Turnhalle Schneisingen\, Schladstrasse 20\, Schneisingen\, Aargau\, 5425\, Schweiz
CATEGORIES:Unihockey
ATTACH;FMTTYPE=image/png:https://tsvschneisingen.ch/wp-content/uploads/2019/10/Unihockey-Plauschturnier-Header-2018.png
END:VEVENT
END:VCALENDAR