BEGIN:VCALENDAR
VERSION:2.0
PRODID:-//TSV Schneisingen - ECPv6.15.20//NONSGML v1.0//EN
CALSCALE:GREGORIAN
METHOD:PUBLISH
X-WR-CALNAME:TSV Schneisingen
X-ORIGINAL-URL:https://tsvschneisingen.ch
X-WR-CALDESC:Veranstaltungen im TSV Schneisingen
REFRESH-INTERVAL;VALUE=DURATION:PT1H
X-Robots-Tag:noindex
X-PUBLISHED-TTL:PT1H
BEGIN:VTIMEZONE
TZID:Europe/Zurich
BEGIN:DAYLIGHT
TZOFFSETFROM:+0100
TZOFFSETTO:+0200
TZNAME:CEST
DTSTART:20250330T010000
END:DAYLIGHT
BEGIN:STANDARD
TZOFFSETFROM:+0200
TZOFFSETTO:+0100
TZNAME:CET
DTSTART:20251026T010000
END:STANDARD
BEGIN:DAYLIGHT
TZOFFSETFROM:+0100
TZOFFSETTO:+0200
TZNAME:CEST
DTSTART:20260329T010000
END:DAYLIGHT
BEGIN:STANDARD
TZOFFSETFROM:+0200
TZOFFSETTO:+0100
TZNAME:CET
DTSTART:20261025T010000
END:STANDARD
BEGIN:DAYLIGHT
TZOFFSETFROM:+0100
TZOFFSETTO:+0200
TZNAME:CEST
DTSTART:20270328T010000
END:DAYLIGHT
BEGIN:STANDARD
TZOFFSETFROM:+0200
TZOFFSETTO:+0100
TZNAME:CET
DTSTART:20271031T010000
END:STANDARD
END:VTIMEZONE
BEGIN:VEVENT
DTSTART;TZID=Europe/Zurich:20260705T130000
DTEND;TZID=Europe/Zurich:20260705T180000
DTSTAMP:20260420T012745
CREATED:20260324T171856Z
LAST-MODIFIED:20260324T171856Z
UID:853-1783256400-1783274400@tsvschneisingen.ch
SUMMARY:King of the Grass 2026
DESCRIPTION:Wir laden alle Volleyballbegeisterten zu unserem Gras- und Beachvolleyballturnier ein. Kommt und messt euch auf Gras und Sand mit anderen Teams! \nEin kleiner Kiosk sorgt für euer leibliches Wohl. \nWer teilnehmen möchte meldet sein Team via online Formular (siehe unten) an.\nEs werden keine Empfangsbestätigungen versendet. \nWir wünschen allen Teams viel Spass und Erfolg! \n\n	Hinweis: Für diesen Inhalt ist JavaScript erforderlich.
URL:https://tsvschneisingen.ch/event/king-of-the-grass-2026/
LOCATION:Sportplatz Schneisingen\, Schladstrasse 21\, Schneisingen\, Aargau\, 5425\, Schweiz
CATEGORIES:Turnverein
END:VEVENT
BEGIN:VEVENT
DTSTART;TZID=Europe/Zurich:20260706T170000
DTEND;TZID=Europe/Zurich:20260706T235900
DTSTAMP:20260420T012745
CREATED:20240609T194654Z
LAST-MODIFIED:20260324T173219Z
UID:745-1783357200-1783382340@tsvschneisingen.ch
SUMMARY:Handwerkerfest
DESCRIPTION:Alle Gewerbler und Handwerker aus und um Schneisingen sind eingeladen den Tag mit einem gemütlichen Abendessen und einem «Fiirabigbier» ausklingen lassen. \nWeitere Informationen können dem Flyer entnommen werden (folgt bald).\nWir bitten das Gewerbe oder grössere Gruppen um Anmeldungen via Onlineformular bis 22.06.2026. \nWir freuen uns auf euch! \nBei Fragen melden bei Roland Meier:\nr_meier1@gmx.ch\n079 356 59 49
URL:https://tsvschneisingen.ch/event/handwerkerfest/
LOCATION:Sportplatz Schneisingen\, Schladstrasse 21\, Schneisingen\, Aargau\, 5425\, Schweiz
CATEGORIES:Turnverein
ATTACH;FMTTYPE=image/png:https://tsvschneisingen.ch/wp-content/uploads/2024/06/TSV_Handwerkerfest_Header_2024.png
END:VEVENT
BEGIN:VEVENT
DTSTART;TZID=Europe/Zurich:20261219T190000
DTEND;TZID=Europe/Zurich:20261219T230000
DTSTAMP:20260420T012745
CREATED:20260324T172215Z
LAST-MODIFIED:20260324T172215Z
UID:855-1797706800-1797721200@tsvschneisingen.ch
SUMMARY:Volleynight 2026
DESCRIPTION:Wir laden wieder alle Volleyballbegeisterten zu unserer jährlichen Volleynight ein. \nDer Austragungsort ist noch nicht festgelegt. \nIn der Halle wird ein kleiner Kiosk betrieben\, wo Snacks und Getränke gekauft werden können. \nAnmelden geht ebenfalls weiterhin mit dem Anmeldeformular etwas weiter unten auf der Seite. Ihr erhaltet nach erfolgreicher Anmeldung keine Bestätigung per Mail. \nWir wünschen den teilnehmenden Teams viel Erfolg und spannende\, unfallfreie Spiele! \n\n	Hinweis: Für diesen Inhalt ist JavaScript erforderlich.\n\n\n    \n\n\n        \n        \n        \n 
URL:https://tsvschneisingen.ch/event/volleynight-2026/
CATEGORIES:Turnverein
END:VEVENT
END:VCALENDAR